Package: COTAN Version: 2.8.5 Command: rm -rf COTAN.buildbin-libdir && mkdir COTAN.buildbin-libdir && /Users/biocbuild/BBS/utils/build-universal.sh COTAN_2.8.5.tar.gz /Library/Frameworks/R.framework/Resources/bin/R COTAN.buildbin-libdir StartedAt: 2025-10-14 13:08:08 -0400 (Tue, 14 Oct 2025) EndedAt: 2025-10-14 13:10:07 -0400 (Tue, 14 Oct 2025) EllapsedTime: 119.2 seconds RetCode: 0 Status: OK PackageFile: COTAN_2.8.5.tgz PackageFileSize: 4.459 MiB