Package: COTAN Version: 2.8.0 Command: rm -rf COTAN.buildbin-libdir && mkdir COTAN.buildbin-libdir && /Users/biocbuild/BBS/utils/build-universal.sh COTAN_2.8.0.tar.gz /Library/Frameworks/R.framework/Resources/bin/R COTAN.buildbin-libdir StartedAt: 2025-04-22 00:40:00 -0400 (Tue, 22 Apr 2025) EndedAt: 2025-04-22 00:41:10 -0400 (Tue, 22 Apr 2025) EllapsedTime: 70.2 seconds RetCode: 0 Status: OK PackageFile: COTAN_2.8.0.tgz PackageFileSize: 4.565 MiB