Package: COTAN Version: 2.8.0 Command: rm -rf COTAN.buildbin-libdir && mkdir COTAN.buildbin-libdir && /Users/biocbuild/BBS/utils/build-universal.sh COTAN_2.8.0.tar.gz /Library/Frameworks/R.framework/Resources/bin/R COTAN.buildbin-libdir StartedAt: 2025-04-21 22:31:08 -0400 (Mon, 21 Apr 2025) EndedAt: 2025-04-21 22:31:29 -0400 (Mon, 21 Apr 2025) EllapsedTime: 20.4 seconds RetCode: 0 Status: OK PackageFile: COTAN_2.8.0.tgz PackageFileSize: 4.593 MiB