Package: CODEX Version: 1.40.0 Command: E:\biocbuild\bbs-3.21-bioc\R\bin\R.exe CMD check --no-multiarch --install=check:CODEX.install-out.txt --library=E:\biocbuild\bbs-3.21-bioc\R\library --no-vignettes --timings CODEX_1.40.0.tar.gz StartedAt: 2025-08-15 00:47:04 -0400 (Fri, 15 Aug 2025) EndedAt: 2025-08-15 00:52:24 -0400 (Fri, 15 Aug 2025) EllapsedTime: 320.6 seconds RetCode: 0 Status: OK CheckDir: CODEX.Rcheck Warnings: 0