Package: COCOA Version: 2.22.0 Maintainer: John Lawson MaintainerEmail: jtl2hk at virginia.edu git_url: https://git.bioconductor.org/packages/COCOA git_branch: RELEASE_3_21 git_last_commit: 15583ed git_last_commit_date: 2025-04-15 11:38:38 -0400 (Tue, 15 Apr 2025)