Package: CNVRanger Version: 1.24.2 Command: E:\biocbuild\bbs-3.21-bioc\R\bin\R.exe CMD check --no-multiarch --install=check:CNVRanger.install-out.txt --library=E:\biocbuild\bbs-3.21-bioc\R\library --no-vignettes --timings CNVRanger_1.24.2.tar.gz StartedAt: 2025-08-15 00:46:28 -0400 (Fri, 15 Aug 2025) EndedAt: 2025-08-15 00:51:02 -0400 (Fri, 15 Aug 2025) EllapsedTime: 274.7 seconds RetCode: 0 Status: OK CheckDir: CNVRanger.Rcheck Warnings: 0