Package: CNVRanger Version: 1.24.2 Command: /home/biocbuild/bbs-3.21-bioc/R/bin/R CMD check --install=check:CNVRanger.install-out.txt --library=/home/biocbuild/bbs-3.21-bioc/R/site-library --timings CNVRanger_1.24.2.tar.gz StartedAt: 2025-10-15 21:54:10 -0400 (Wed, 15 Oct 2025) EndedAt: 2025-10-15 22:00:52 -0400 (Wed, 15 Oct 2025) EllapsedTime: 402.5 seconds RetCode: 0 Status: OK CheckDir: CNVRanger.Rcheck Warnings: 0