Package: CNVRanger Version: 1.24.2 Command: /Library/Frameworks/R.framework/Resources/bin/R CMD build --keep-empty-dirs --no-resave-data CNVRanger StartedAt: 2025-10-13 21:38:39 -0400 (Mon, 13 Oct 2025) EndedAt: 2025-10-13 21:42:29 -0400 (Mon, 13 Oct 2025) EllapsedTime: 230.7 seconds RetCode: 0 Status: OK PackageFile: CNVRanger_1.24.2.tar.gz PackageFileSize: 1.95 MiB