Package: CNVPanelizer Version: 1.40.0 Command: E:\biocbuild\bbs-3.21-bioc\R\bin\R.exe CMD check --no-multiarch --install=check:CNVPanelizer.install-out.txt --library=E:\biocbuild\bbs-3.21-bioc\R\library --no-vignettes --timings CNVPanelizer_1.40.0.tar.gz StartedAt: 2025-08-15 00:46:17 -0400 (Fri, 15 Aug 2025) EndedAt: 2025-08-15 00:50:01 -0400 (Fri, 15 Aug 2025) EllapsedTime: 223.9 seconds RetCode: 0 Status: OK CheckDir: CNVPanelizer.Rcheck Warnings: 0