Package: CNVPanelizer Version: 1.40.0 Command: rm -rf CNVPanelizer.buildbin-libdir && mkdir CNVPanelizer.buildbin-libdir && E:\biocbuild\bbs-3.21-bioc\R\bin\R.exe CMD INSTALL --build --library=CNVPanelizer.buildbin-libdir CNVPanelizer_1.40.0.tar.gz StartedAt: 2025-08-15 09:01:37 -0400 (Fri, 15 Aug 2025) EndedAt: 2025-08-15 09:02:26 -0400 (Fri, 15 Aug 2025) EllapsedTime: 49.0 seconds RetCode: 0 Status: OK PackageFile: CNVPanelizer_1.40.0.zip PackageFileSize: 474.3 KiB