Package: CNVPanelizer Version: 1.40.0 Command: /Library/Frameworks/R.framework/Resources/bin/R CMD INSTALL CNVPanelizer StartedAt: 2025-10-13 15:29:30 -0400 (Mon, 13 Oct 2025) EndedAt: 2025-10-13 15:30:15 -0400 (Mon, 13 Oct 2025) EllapsedTime: 45.9 seconds RetCode: 0 Status: OK