Package: CNVPanelizer Version: 1.40.0 Command: /home/biocbuild/R/R/bin/R CMD build --keep-empty-dirs --no-resave-data CNVPanelizer StartedAt: 2025-09-29 23:44:49 -0000 (Mon, 29 Sep 2025) EndedAt: 2025-09-29 23:46:45 -0000 (Mon, 29 Sep 2025) EllapsedTime: 116.0 seconds RetCode: 0 Status: OK PackageFile: CNVPanelizer_1.40.0.tar.gz PackageFileSize: 355.7 KiB