Package: CNVPanelizer Version: 1.40.0 Command: /Library/Frameworks/R.framework/Resources/bin/R CMD check --install=check:CNVPanelizer.install-out.txt --library=/Library/Frameworks/R.framework/Resources/library --no-vignettes --timings CNVPanelizer_1.40.0.tar.gz StartedAt: 2025-04-21 18:43:03 -0400 (Mon, 21 Apr 2025) EndedAt: 2025-04-21 18:44:09 -0400 (Mon, 21 Apr 2025) EllapsedTime: 65.8 seconds RetCode: 0 Status: OK CheckDir: CNVPanelizer.Rcheck Warnings: 0