Package: CNVPanelizer Version: 1.40.0 Command: /Library/Frameworks/R.framework/Resources/bin/R CMD check --install=check:CNVPanelizer.install-out.txt --library=/Library/Frameworks/R.framework/Resources/library --no-vignettes --timings CNVPanelizer_1.40.0.tar.gz StartedAt: 2025-10-14 16:42:00 -0400 (Tue, 14 Oct 2025) EndedAt: 2025-10-14 16:45:29 -0400 (Tue, 14 Oct 2025) EllapsedTime: 209.1 seconds RetCode: 0 Status: OK CheckDir: CNVPanelizer.Rcheck Warnings: 0