Package: CNTools Version: 1.64.0 Command: E:\biocbuild\bbs-3.21-bioc\R\bin\R.exe CMD INSTALL CNTools StartedAt: 2025-08-14 16:19:05 -0400 (Thu, 14 Aug 2025) EndedAt: 2025-08-14 16:19:41 -0400 (Thu, 14 Aug 2025) EllapsedTime: 35.9 seconds RetCode: 0 Status: OK