Package: CNTools Version: 1.64.0 Command: /Library/Frameworks/R.framework/Resources/bin/R CMD INSTALL CNTools StartedAt: 2025-10-13 15:50:50 -0400 (Mon, 13 Oct 2025) EndedAt: 2025-10-13 15:51:30 -0400 (Mon, 13 Oct 2025) EllapsedTime: 39.9 seconds RetCode: 0 Status: OK