Package: CNTools Version: 1.64.0 Command: /Library/Frameworks/R.framework/Resources/bin/R CMD check --install=check:CNTools.install-out.txt --library=/Library/Frameworks/R.framework/Resources/library --no-vignettes --timings CNTools_1.64.0.tar.gz StartedAt: 2025-10-14 01:42:55 -0400 (Tue, 14 Oct 2025) EndedAt: 2025-10-14 01:47:39 -0400 (Tue, 14 Oct 2025) EllapsedTime: 284.5 seconds RetCode: 0 Status: OK CheckDir: CNTools.Rcheck Warnings: 0