Package: CNTools Version: 1.64.0 Command: rm -rf CNTools.buildbin-libdir && mkdir CNTools.buildbin-libdir && /Users/biocbuild/BBS/utils/build-universal.sh CNTools_1.64.0.tar.gz /Library/Frameworks/R.framework/Resources/bin/R CNTools.buildbin-libdir StartedAt: 2025-10-14 13:05:47 -0400 (Tue, 14 Oct 2025) EndedAt: 2025-10-14 13:06:37 -0400 (Tue, 14 Oct 2025) EllapsedTime: 50.3 seconds RetCode: 0 Status: OK PackageFile: CNTools_1.64.0.tgz PackageFileSize: 1.189 MiB