Package: CNORode Version: 1.50.0 Command: chmod a+r CNORode -R && E:\biocbuild\bbs-3.21-bioc\R\bin\R.exe CMD build --keep-empty-dirs --no-resave-data CNORode StartedAt: 2025-08-14 18:09:05 -0400 (Thu, 14 Aug 2025) EndedAt: 2025-08-14 18:10:16 -0400 (Thu, 14 Aug 2025) EllapsedTime: 71.5 seconds RetCode: 0 Status: OK PackageFile: CNORode_1.50.0.tar.gz PackageFileSize: 375.6 KiB