Package: CNORode Version: 1.50.0 Command: rm -rf CNORode.buildbin-libdir && mkdir CNORode.buildbin-libdir && E:\biocbuild\bbs-3.21-bioc\R\bin\R.exe CMD INSTALL --build --library=CNORode.buildbin-libdir CNORode_1.50.0.tar.gz StartedAt: 2025-08-15 09:01:23 -0400 (Fri, 15 Aug 2025) EndedAt: 2025-08-15 09:02:06 -0400 (Fri, 15 Aug 2025) EllapsedTime: 42.9 seconds RetCode: 0 Status: OK PackageFile: CNORode_1.50.0.zip PackageFileSize: 304.7 KiB