Package: CNORode Version: 1.50.0 Command: /home/biocbuild/R/R/bin/R CMD build --keep-empty-dirs --no-resave-data CNORode StartedAt: 2025-10-13 23:43:40 -0000 (Mon, 13 Oct 2025) EndedAt: 2025-10-13 23:44:28 -0000 (Mon, 13 Oct 2025) EllapsedTime: 48.0 seconds RetCode: 0 Status: OK PackageFile: CNORode_1.50.0.tar.gz PackageFileSize: 486 KiB