Package: CNORode Version: 1.50.0 Command: /Library/Frameworks/R.framework/Resources/bin/R CMD check --install=check:CNORode.install-out.txt --library=/Library/Frameworks/R.framework/Resources/library --no-vignettes --timings CNORode_1.50.0.tar.gz StartedAt: 2025-10-14 16:39:11 -0400 (Tue, 14 Oct 2025) EndedAt: 2025-10-14 16:40:36 -0400 (Tue, 14 Oct 2025) EllapsedTime: 85.3 seconds RetCode: 0 Status: WARNINGS CheckDir: CNORode.Rcheck Warnings: 2