Package: CNORfeeder Version: 1.48.0 Command: /home/biocbuild/bbs-3.21-bioc/R/bin/R CMD INSTALL CNORfeeder StartedAt: 2025-10-15 15:14:35 -0400 (Wed, 15 Oct 2025) EndedAt: 2025-10-15 15:14:43 -0400 (Wed, 15 Oct 2025) EllapsedTime: 8.4 seconds RetCode: 0 Status: OK