Package: CNORfeeder Version: 1.48.0 Command: /home/biocbuild/R/R/bin/R CMD check --install=check:CNORfeeder.install-out.txt --library=/home/biocbuild/R/R/site-library --no-vignettes --timings CNORfeeder_1.48.0.tar.gz StartedAt: 2025-10-14 07:39:01 -0000 (Tue, 14 Oct 2025) EndedAt: 2025-10-14 07:40:23 -0000 (Tue, 14 Oct 2025) EllapsedTime: 82.1 seconds RetCode: 0 Status: WARNINGS CheckDir: CNORfeeder.Rcheck Warnings: 4