Package: CNORfeeder Version: 1.48.0 Command: /Library/Frameworks/R.framework/Resources/bin/R CMD INSTALL CNORfeeder StartedAt: 2025-10-13 15:40:57 -0400 (Mon, 13 Oct 2025) EndedAt: 2025-10-13 15:41:08 -0400 (Mon, 13 Oct 2025) EllapsedTime: 10.4 seconds RetCode: 0 Status: OK