Package: CNORfeeder Version: 1.48.0 Command: /Library/Frameworks/R.framework/Resources/bin/R CMD check --install=check:CNORfeeder.install-out.txt --library=/Library/Frameworks/R.framework/Resources/library --no-vignettes --timings CNORfeeder_1.48.0.tar.gz StartedAt: 2025-10-14 16:37:17 -0400 (Tue, 14 Oct 2025) EndedAt: 2025-10-14 16:38:39 -0400 (Tue, 14 Oct 2025) EllapsedTime: 81.8 seconds RetCode: 0 Status: WARNINGS CheckDir: CNORfeeder.Rcheck Warnings: 4