Package: CNORfeeder Version: 1.48.0 Command: rm -rf CNORfeeder.buildbin-libdir && mkdir CNORfeeder.buildbin-libdir && /Users/biocbuild/BBS/utils/build-universal.sh CNORfeeder_1.48.0.tar.gz /Library/Frameworks/R.framework/Resources/bin/R CNORfeeder.buildbin-libdir StartedAt: 2025-10-15 17:55:09 -0400 (Wed, 15 Oct 2025) EndedAt: 2025-10-15 17:55:22 -0400 (Wed, 15 Oct 2025) EllapsedTime: 12.5 seconds RetCode: 0 Status: OK PackageFile: CNORfeeder_1.48.0.tgz PackageFileSize: 2.195 MiB