Package: CNORdt Version: 1.50.0 Command: /home/biocbuild/bbs-3.21-bioc/R/bin/R CMD INSTALL CNORdt StartedAt: 2025-10-15 15:15:54 -0400 (Wed, 15 Oct 2025) EndedAt: 2025-10-15 15:16:02 -0400 (Wed, 15 Oct 2025) EllapsedTime: 8.1 seconds RetCode: 0 Status: OK