Package: CNORdt Version: 1.50.0 Command: /home/biocbuild/bbs-3.21-bioc/R/bin/R CMD check --install=check:CNORdt.install-out.txt --library=/home/biocbuild/bbs-3.21-bioc/R/site-library --timings CNORdt_1.50.0.tar.gz StartedAt: 2025-10-15 21:52:43 -0400 (Wed, 15 Oct 2025) EndedAt: 2025-10-15 21:55:10 -0400 (Wed, 15 Oct 2025) EllapsedTime: 147.2 seconds RetCode: 0 Status: OK CheckDir: CNORdt.Rcheck Warnings: 0