Package: CNORdt Version: 1.50.0 Command: /Library/Frameworks/R.framework/Resources/bin/R CMD build --keep-empty-dirs --no-resave-data CNORdt StartedAt: 2025-10-13 18:00:48 -0400 (Mon, 13 Oct 2025) EndedAt: 2025-10-13 18:01:55 -0400 (Mon, 13 Oct 2025) EllapsedTime: 67.4 seconds RetCode: 0 Status: OK PackageFile: CNORdt_1.50.0.tar.gz PackageFileSize: 319.4 KiB