Package: CNORdt Version: 1.50.0 Command: rm -rf CNORdt.buildbin-libdir && mkdir CNORdt.buildbin-libdir && /Users/biocbuild/BBS/utils/build-universal.sh CNORdt_1.50.0.tar.gz /Library/Frameworks/R.framework/Resources/bin/R CNORdt.buildbin-libdir StartedAt: 2025-10-14 13:05:38 -0400 (Tue, 14 Oct 2025) EndedAt: 2025-10-14 13:06:02 -0400 (Tue, 14 Oct 2025) EllapsedTime: 23.6 seconds RetCode: 0 Status: OK PackageFile: CNORdt_1.50.0.tgz PackageFileSize: 326.8 KiB