Package: CNORdt Version: 1.50.0 Command: /Library/Frameworks/R.framework/Resources/bin/R CMD check --install=check:CNORdt.install-out.txt --library=/Library/Frameworks/R.framework/Resources/library --no-vignettes --timings CNORdt_1.50.0.tar.gz StartedAt: 2025-04-21 19:50:00 -0400 (Mon, 21 Apr 2025) EndedAt: 2025-04-21 19:52:03 -0400 (Mon, 21 Apr 2025) EllapsedTime: 123.0 seconds RetCode: 0 Status: OK CheckDir: CNORdt.Rcheck Warnings: 0