Package: CNORdt Version: 1.50.0 Command: rm -rf CNORdt.buildbin-libdir && mkdir CNORdt.buildbin-libdir && /Users/biocbuild/BBS/utils/build-universal.sh CNORdt_1.50.0.tar.gz /Library/Frameworks/R.framework/Resources/bin/R CNORdt.buildbin-libdir StartedAt: 2025-10-15 17:55:05 -0400 (Wed, 15 Oct 2025) EndedAt: 2025-10-15 17:55:17 -0400 (Wed, 15 Oct 2025) EllapsedTime: 12.7 seconds RetCode: 0 Status: OK PackageFile: CNORdt_1.50.0.tgz PackageFileSize: 326.7 KiB