Package: CNAnorm Version: 1.54.0 Command: /home/biocbuild/R/R/bin/R CMD INSTALL CNAnorm StartedAt: 2025-10-13 20:12:42 -0000 (Mon, 13 Oct 2025) EndedAt: 2025-10-13 20:12:48 -0000 (Mon, 13 Oct 2025) EllapsedTime: 6.9 seconds RetCode: 0 Status: OK