Package: CMA Version: 1.66.0 Command: rm -rf CMA.buildbin-libdir && mkdir CMA.buildbin-libdir && E:\biocbuild\bbs-3.21-bioc\R\bin\R.exe CMD INSTALL --build --library=CMA.buildbin-libdir CMA_1.66.0.tar.gz StartedAt: 2025-08-15 09:01:03 -0400 (Fri, 15 Aug 2025) EndedAt: 2025-08-15 09:01:51 -0400 (Fri, 15 Aug 2025) EllapsedTime: 48.6 seconds RetCode: 0 Status: OK PackageFile: CMA_1.66.0.zip PackageFileSize: 1.722 MiB