Package: CMA Version: 1.66.0 Command: /Library/Frameworks/R.framework/Resources/bin/R CMD check --install=check:CMA.install-out.txt --library=/Library/Frameworks/R.framework/Resources/library --no-vignettes --timings CMA_1.66.0.tar.gz StartedAt: 2025-04-21 19:49:06 -0400 (Mon, 21 Apr 2025) EndedAt: 2025-04-21 19:50:14 -0400 (Mon, 21 Apr 2025) EllapsedTime: 68.6 seconds RetCode: 0 Status: OK CheckDir: CMA.Rcheck Warnings: 0