Package: CMA Version: 1.66.0 Command: /home/biocbuild/R/R/bin/R CMD INSTALL CMA StartedAt: 2025-10-13 20:23:53 -0000 (Mon, 13 Oct 2025) EndedAt: 2025-10-13 20:24:13 -0000 (Mon, 13 Oct 2025) EllapsedTime: 19.4 seconds RetCode: 0 Status: OK