Package: CMA Version: 1.66.0 Command: /Library/Frameworks/R.framework/Resources/bin/R CMD INSTALL CMA StartedAt: 2025-10-13 15:34:19 -0400 (Mon, 13 Oct 2025) EndedAt: 2025-10-13 15:34:33 -0400 (Mon, 13 Oct 2025) EllapsedTime: 14.2 seconds RetCode: 0 Status: OK