Package: CIMICE Version: 1.16.0 Command: chmod a+r CIMICE -R && E:\biocbuild\bbs-3.21-bioc\R\bin\R.exe CMD build --keep-empty-dirs --no-resave-data CIMICE StartedAt: 2025-08-14 18:03:31 -0400 (Thu, 14 Aug 2025) EndedAt: 2025-08-14 18:04:30 -0400 (Thu, 14 Aug 2025) EllapsedTime: 58.3 seconds RetCode: 0 Status: OK PackageFile: CIMICE_1.16.0.tar.gz PackageFileSize: 1.304 MiB