Package: CIMICE Version: 1.16.0 Command: /Library/Frameworks/R.framework/Resources/bin/R CMD build --keep-empty-dirs --no-resave-data CIMICE StartedAt: 2025-09-29 17:54:49 -0400 (Mon, 29 Sep 2025) EndedAt: 2025-09-29 17:55:47 -0400 (Mon, 29 Sep 2025) EllapsedTime: 58.8 seconds RetCode: 0 Status: OK PackageFile: CIMICE_1.16.0.tar.gz PackageFileSize: 1.551 MiB