Package: CIMICE Version: 1.16.0 Command: rm -rf CIMICE.buildbin-libdir && mkdir CIMICE.buildbin-libdir && /Users/biocbuild/BBS/utils/build-universal.sh CIMICE_1.16.0.tar.gz /Library/Frameworks/R.framework/Resources/bin/R CIMICE.buildbin-libdir StartedAt: 2025-09-30 12:51:46 -0400 (Tue, 30 Sep 2025) EndedAt: 2025-09-30 12:52:12 -0400 (Tue, 30 Sep 2025) EllapsedTime: 26.3 seconds RetCode: 0 Status: OK PackageFile: CIMICE_1.16.0.tgz PackageFileSize: 1.271 MiB