Package: CHETAH Version: 1.24.0 Command: chmod a+r CHETAH -R && E:\biocbuild\bbs-3.21-bioc\R\bin\R.exe CMD build --keep-empty-dirs --no-resave-data CHETAH StartedAt: 2025-08-14 17:59:26 -0400 (Thu, 14 Aug 2025) EndedAt: 2025-08-14 18:00:49 -0400 (Thu, 14 Aug 2025) EllapsedTime: 82.9 seconds RetCode: 0 Status: OK PackageFile: CHETAH_1.24.0.tar.gz PackageFileSize: 3.258 MiB