Package: CHETAH Version: 1.24.0 Command: /Library/Frameworks/R.framework/Resources/bin/R CMD INSTALL CHETAH StartedAt: 2025-10-13 16:39:15 -0400 (Mon, 13 Oct 2025) EndedAt: 2025-10-13 16:40:15 -0400 (Mon, 13 Oct 2025) EllapsedTime: 59.7 seconds RetCode: 0 Status: OK