Package: CHETAH Version: 1.24.0 Command: /Library/Frameworks/R.framework/Resources/bin/R CMD check --install=check:CHETAH.install-out.txt --library=/Library/Frameworks/R.framework/Resources/library --no-vignettes --timings CHETAH_1.24.0.tar.gz StartedAt: 2025-10-14 01:20:11 -0400 (Tue, 14 Oct 2025) EndedAt: 2025-10-14 01:28:32 -0400 (Tue, 14 Oct 2025) EllapsedTime: 501.3 seconds RetCode: 0 Status: OK CheckDir: CHETAH.Rcheck Warnings: 0