Package: CHETAH Version: 1.24.0 Command: /Library/Frameworks/R.framework/Resources/bin/R CMD INSTALL CHETAH StartedAt: 2025-04-21 15:43:32 -0400 (Mon, 21 Apr 2025) EndedAt: 2025-04-21 15:44:10 -0400 (Mon, 21 Apr 2025) EllapsedTime: 38.0 seconds RetCode: 0 Status: OK