Package: CHETAH Version: 1.24.0 Command: /home/biocbuild/R/R/bin/R CMD build --keep-empty-dirs --no-resave-data CHETAH StartedAt: 2025-10-13 23:32:43 -0000 (Mon, 13 Oct 2025) EndedAt: 2025-10-13 23:34:19 -0000 (Mon, 13 Oct 2025) EllapsedTime: 96.0 seconds RetCode: 0 Status: OK PackageFile: CHETAH_1.24.0.tar.gz PackageFileSize: 3.5 MiB