Package: CHETAH Version: 1.24.0 Command: rm -rf CHETAH.buildbin-libdir && mkdir CHETAH.buildbin-libdir && /Users/biocbuild/BBS/utils/build-universal.sh CHETAH_1.24.0.tar.gz /Library/Frameworks/R.framework/Resources/bin/R CHETAH.buildbin-libdir StartedAt: 2025-04-21 22:29:23 -0400 (Mon, 21 Apr 2025) EndedAt: 2025-04-21 22:29:35 -0400 (Mon, 21 Apr 2025) EllapsedTime: 12.2 seconds RetCode: 0 Status: OK PackageFile: CHETAH_1.24.0.tgz PackageFileSize: 3.554 MiB