Package: CGHregions Version: 1.66.0 Command: /Library/Frameworks/R.framework/Resources/bin/R CMD INSTALL CGHregions StartedAt: 2025-09-29 16:03:48 -0400 (Mon, 29 Sep 2025) EndedAt: 2025-09-29 16:03:54 -0400 (Mon, 29 Sep 2025) EllapsedTime: 5.8 seconds RetCode: 0 Status: OK