Package: CGHregions Version: 1.66.0 Command: /Library/Frameworks/R.framework/Resources/bin/R CMD check --install=check:CGHregions.install-out.txt --library=/Library/Frameworks/R.framework/Resources/library --no-vignettes --timings CGHregions_1.66.0.tar.gz StartedAt: 2025-09-30 15:38:40 -0400 (Tue, 30 Sep 2025) EndedAt: 2025-09-30 15:39:23 -0400 (Tue, 30 Sep 2025) EllapsedTime: 42.5 seconds RetCode: 0 Status: OK CheckDir: CGHregions.Rcheck Warnings: 0