Package: CGHcall Version: 2.70.0 Command: E:\biocbuild\bbs-3.21-bioc\R\bin\R.exe CMD check --no-multiarch --install=check:CGHcall.install-out.txt --library=E:\biocbuild\bbs-3.21-bioc\R\library --no-vignettes --timings CGHcall_2.70.0.tar.gz StartedAt: 2025-08-15 00:29:21 -0400 (Fri, 15 Aug 2025) EndedAt: 2025-08-15 00:30:12 -0400 (Fri, 15 Aug 2025) EllapsedTime: 51.3 seconds RetCode: 0 Status: WARNINGS CheckDir: CGHcall.Rcheck Warnings: 1